BEGIN:VCALENDAR
METHOD:PUBLISH
VERSION:2.0
PRODID:-//hacksw/handcal//NONSGML v1.0//EN
X-WR-TIMEZONE:Australia/Sydney
CALSCALE:GREGORIAN
BEGIN:VEVENT
DTSTART;TZID=Australia/Sydney:20260328T100000
DTEND;TZID=Australia/Sydney:20260328T160000
UID:708902748869A27E68068F65851643511595031184869A27E680690929382559
DTSTAMP:20260420T182627
LOCATION:Peter Hills\' home - Terry Hills
DESCRIPTION:Terry Hills
URL;VALUE=URI:http://armstrongsiddeley.org.au/events/view.php?id=708902748
 869A27E68068F65851643511595031184869A27E680690929382559
SUMMARY:NSW - Technical Day and AGM
END:VEVENT
END:VCALENDAR
